BEGIN:VCALENDAR
VERSION:2.0
PRODID:-//Landgasthaus Brüers - ECPv6.15.20//NONSGML v1.0//EN
CALSCALE:GREGORIAN
METHOD:PUBLISH
X-ORIGINAL-URL:https://www.landgasthaus-brueers.de
X-WR-CALDESC:Veranstaltungen für Landgasthaus Brüers
REFRESH-INTERVAL;VALUE=DURATION:PT1H
X-Robots-Tag:noindex
X-PUBLISHED-TTL:PT1H
BEGIN:VTIMEZONE
TZID:Europe/Berlin
BEGIN:DAYLIGHT
TZOFFSETFROM:+0100
TZOFFSETTO:+0200
TZNAME:CEST
DTSTART:20250330T010000
END:DAYLIGHT
BEGIN:STANDARD
TZOFFSETFROM:+0200
TZOFFSETTO:+0100
TZNAME:CET
DTSTART:20251026T010000
END:STANDARD
BEGIN:DAYLIGHT
TZOFFSETFROM:+0100
TZOFFSETTO:+0200
TZNAME:CEST
DTSTART:20260329T010000
END:DAYLIGHT
BEGIN:STANDARD
TZOFFSETFROM:+0200
TZOFFSETTO:+0100
TZNAME:CET
DTSTART:20261025T010000
END:STANDARD
BEGIN:DAYLIGHT
TZOFFSETFROM:+0100
TZOFFSETTO:+0200
TZNAME:CEST
DTSTART:20270328T010000
END:DAYLIGHT
BEGIN:STANDARD
TZOFFSETFROM:+0200
TZOFFSETTO:+0100
TZNAME:CET
DTSTART:20271031T010000
END:STANDARD
END:VTIMEZONE
BEGIN:VEVENT
DTSTART;VALUE=DATE:20260416
DTEND;VALUE=DATE:20260616
DTSTAMP:20260424T174853
CREATED:20260119T172038Z
LAST-MODIFIED:20260308T080440Z
UID:8869-1776297600-1781567999@www.landgasthaus-brueers.de
SUMMARY:Alles von der Stange
DESCRIPTION:Frischer Spargel vom Hof Ulrich in Dötlingen – knackig\, aromatisch und genau so\, wie er sein soll. Bei uns landet er pur\, klassisch oder als Star auf dem Teller – Frühling zum Anbeißen! \nWir freuen uns auf Ihren Besuch!
URL:https://www.landgasthaus-brueers.de/event/alles-von-der-stange/
CATEGORIES:Spargel
END:VEVENT
BEGIN:VEVENT
DTSTART;VALUE=DATE:20260507
DTEND;VALUE=DATE:20260508
DTSTAMP:20260424T174853
CREATED:20260120T092459Z
LAST-MODIFIED:20260120T171336Z
UID:8895-1778112000-1778198399@www.landgasthaus-brueers.de
SUMMARY:Spargelbuffet ab 18:30 Uhr
DESCRIPTION:
URL:https://www.landgasthaus-brueers.de/event/spargelbuffet-im-oldenburgerland/
CATEGORIES:Spargel
END:VEVENT
BEGIN:VEVENT
DTSTART;VALUE=DATE:20260508
DTEND;VALUE=DATE:20260509
DTSTAMP:20260424T174853
CREATED:20260120T092546Z
LAST-MODIFIED:20260120T171320Z
UID:8897-1778198400-1778284799@www.landgasthaus-brueers.de
SUMMARY:Spargelbuffet ab 18:30 Uhr
DESCRIPTION:
URL:https://www.landgasthaus-brueers.de/event/spargelbuffet-oldenburg-lecker/
CATEGORIES:Spargel
END:VEVENT
BEGIN:VEVENT
DTSTART;VALUE=DATE:20260509
DTEND;VALUE=DATE:20260510
DTSTAMP:20260424T174853
CREATED:20260120T092756Z
LAST-MODIFIED:20260120T171313Z
UID:8900-1778284800-1778371199@www.landgasthaus-brueers.de
SUMMARY:Spargelbuffet ab 18:30 Uhr
DESCRIPTION:
URL:https://www.landgasthaus-brueers.de/event/spargelbuffet-abends-spargel-oldenburg/
CATEGORIES:Spargel
END:VEVENT
BEGIN:VEVENT
DTSTART;VALUE=DATE:20260510
DTEND;VALUE=DATE:20260511
DTSTAMP:20260424T174853
CREATED:20260120T092339Z
LAST-MODIFIED:20260120T171306Z
UID:8894-1778371200-1778457599@www.landgasthaus-brueers.de
SUMMARY:Spargelbuffet ab 12:00 Uhr
DESCRIPTION:
URL:https://www.landgasthaus-brueers.de/event/spargelbuffet-am-mittag-oldenburg/
CATEGORIES:Spargel
END:VEVENT
BEGIN:VEVENT
DTSTART;VALUE=DATE:20260516
DTEND;VALUE=DATE:20260517
DTSTAMP:20260424T174853
CREATED:20260120T092828Z
LAST-MODIFIED:20260120T171257Z
UID:8901-1778889600-1778975999@www.landgasthaus-brueers.de
SUMMARY:Spargelbuffet ab 18:30 Uhr
DESCRIPTION:
URL:https://www.landgasthaus-brueers.de/event/spargelbuffet-im-oldenburgerland-abends-munderloh/
CATEGORIES:Spargel
END:VEVENT
BEGIN:VEVENT
DTSTART;VALUE=DATE:20260517
DTEND;VALUE=DATE:20260518
DTSTAMP:20260424T174853
CREATED:20260120T092317Z
LAST-MODIFIED:20260120T171251Z
UID:8893-1778976000-1779062399@www.landgasthaus-brueers.de
SUMMARY:Spargelbuffet ab 12:00 Uhr
DESCRIPTION:
URL:https://www.landgasthaus-brueers.de/event/spargelbuffet-im-oldenburgerland-mittags/
CATEGORIES:Spargel
END:VEVENT
BEGIN:VEVENT
DTSTART;VALUE=DATE:20260522
DTEND;VALUE=DATE:20260523
DTSTAMP:20260424T174853
CREATED:20260120T170637Z
LAST-MODIFIED:20260120T171454Z
UID:8905-1779408000-1779494399@www.landgasthaus-brueers.de
SUMMARY:Spargelbuffet ab 18:30 Uhr
DESCRIPTION:
URL:https://www.landgasthaus-brueers.de/event/spargelbuffet-ab-1830-uhr/
CATEGORIES:Spargel
END:VEVENT
BEGIN:VEVENT
DTSTART;VALUE=DATE:20260528
DTEND;VALUE=DATE:20260529
DTSTAMP:20260424T174853
CREATED:20260120T092522Z
LAST-MODIFIED:20260120T171234Z
UID:8896-1779926400-1780012799@www.landgasthaus-brueers.de
SUMMARY:Spargelbuffet ab 18:30 Uhr
DESCRIPTION:
URL:https://www.landgasthaus-brueers.de/event/spargelbuffet-im-oldenburgerland-lecker-spargel/
CATEGORIES:Spargel
END:VEVENT
BEGIN:VEVENT
DTSTART;VALUE=DATE:20260530
DTEND;VALUE=DATE:20260531
DTSTAMP:20260424T174853
CREATED:20260120T092901Z
LAST-MODIFIED:20260120T171222Z
UID:8902-1780099200-1780185599@www.landgasthaus-brueers.de
SUMMARY:Spargelbuffet ab 18:30 Uhr
DESCRIPTION:
URL:https://www.landgasthaus-brueers.de/event/spargelbuffet-im-oldenburgerland-lecker-spargel-abends/
CATEGORIES:Spargel
END:VEVENT
BEGIN:VEVENT
DTSTART;VALUE=DATE:20260531
DTEND;VALUE=DATE:20260601
DTSTAMP:20260424T174853
CREATED:20260120T092038Z
LAST-MODIFIED:20260120T171215Z
UID:8892-1780185600-1780271999@www.landgasthaus-brueers.de
SUMMARY:Spargelbuffet ab 12:00 Uhr
DESCRIPTION:
URL:https://www.landgasthaus-brueers.de/event/spargelbuffet-ab-12-uhr-oldenburg/
CATEGORIES:Spargel
END:VEVENT
BEGIN:VEVENT
DTSTART;VALUE=DATE:20260605
DTEND;VALUE=DATE:20260606
DTSTAMP:20260424T174853
CREATED:20260120T092712Z
LAST-MODIFIED:20260120T171207Z
UID:8898-1780617600-1780703999@www.landgasthaus-brueers.de
SUMMARY:Spargelbuffet ab 18:30 Uhr
DESCRIPTION:
URL:https://www.landgasthaus-brueers.de/event/spargelbuffet-im-oldenburgerland-spargel/
CATEGORIES:Spargel
END:VEVENT
BEGIN:VEVENT
DTSTART;VALUE=DATE:20260606
DTEND;VALUE=DATE:20260607
DTSTAMP:20260424T174853
CREATED:20260120T092921Z
LAST-MODIFIED:20260120T171202Z
UID:8903-1780704000-1780790399@www.landgasthaus-brueers.de
SUMMARY:Spargelbuffet ab 18:30 Uhr
DESCRIPTION:
URL:https://www.landgasthaus-brueers.de/event/spargelbuffet-im-oldenburgerland-munderloh-brueers/
CATEGORIES:Spargel
END:VEVENT
BEGIN:VEVENT
DTSTART;VALUE=DATE:20260612
DTEND;VALUE=DATE:20260613
DTSTAMP:20260424T174853
CREATED:20260120T092734Z
LAST-MODIFIED:20260120T171155Z
UID:8899-1781222400-1781308799@www.landgasthaus-brueers.de
SUMMARY:Spargelbuffet ab 18:30 Uhr
DESCRIPTION:
URL:https://www.landgasthaus-brueers.de/event/spargelbuffet-oldenburg-hatten-munderloh/
CATEGORIES:Spargel
END:VEVENT
BEGIN:VEVENT
DTSTART;VALUE=DATE:20260613
DTEND;VALUE=DATE:20260614
DTSTAMP:20260424T174853
CREATED:20260120T092941Z
LAST-MODIFIED:20260120T171148Z
UID:8904-1781308800-1781395199@www.landgasthaus-brueers.de
SUMMARY:Spargelbuffet ab 18:30 Uhr
DESCRIPTION:
URL:https://www.landgasthaus-brueers.de/event/spargelbuffet-abends-munderloh-spargel-brueers/
CATEGORIES:Spargel
END:VEVENT
BEGIN:VEVENT
DTSTART;VALUE=DATE:20260618
DTEND;VALUE=DATE:20260804
DTSTAMP:20260424T174853
CREATED:20260119T172226Z
LAST-MODIFIED:20260119T175144Z
UID:8868-1781740800-1785801599@www.landgasthaus-brueers.de
SUMMARY:Kreuz und quer durchs Mittelmeer
DESCRIPTION:Wir nehmen Sie mit auf eine kulinarische Reise durch Sonne\, Meer und würzige Aromen: frische Kräuter\, Olivenöl\, knackiges Gemüse und feiner Fisch – so schmeckt der Süden! Und wer schon jetzt Lust auf noch mehr Abenteuer hat: Ein Marokkanischer Abend ist auch wieder in Planung. Interesse? Tragen Sie sich einfach für unseren Newsletter ein\, dann sind Sie immer zuerst informiert!
URL:https://www.landgasthaus-brueers.de/event/kreuz-und-quer-durchs-mittelmeer/
CATEGORIES:Kreuz und quer durchs Mittelmeer
END:VEVENT
BEGIN:VEVENT
DTSTART;VALUE=DATE:20260802
DTEND;VALUE=DATE:20260803
DTSTAMP:20260424T174853
CREATED:20260416T132324Z
LAST-MODIFIED:20260416T135005Z
UID:9397-1785628800-1785715199@www.landgasthaus-brueers.de
SUMMARY:Frühstücksbuffet ab 10:00 Uhr
DESCRIPTION:
URL:https://www.landgasthaus-brueers.de/event/fruehstuecksbuffet-oldenburg/
CATEGORIES:Frühstücksbuffet
END:VEVENT
BEGIN:VEVENT
DTSTART;VALUE=DATE:20260806
DTEND;VALUE=DATE:20260929
DTSTAMP:20260424T174853
CREATED:20260119T173012Z
LAST-MODIFIED:20260120T094017Z
UID:8867-1785974400-1790639999@www.landgasthaus-brueers.de
SUMMARY:Pfifferlingszeit – Das Gold des Waldes
DESCRIPTION:Goldgelb\, aromatisch und unwiderstehlich – jetzt kommen die Pfifferlinge auf den Teller! Ob pur in Butter\, zu Fleisch oder raffiniert in unseren Gerichten: Wer Pfifferlinge liebt\, kommt hier voll auf seine Kosten.
URL:https://www.landgasthaus-brueers.de/event/pfifferlingszeit-das-gold-des-waldes/
CATEGORIES:Pfifferlinge
END:VEVENT
BEGIN:VEVENT
DTSTART;VALUE=DATE:20261001
DTEND;VALUE=DATE:20261222
DTSTAMP:20260424T174853
CREATED:20260119T173416Z
LAST-MODIFIED:20260119T175158Z
UID:8865-1790812800-1797897599@www.landgasthaus-brueers.de
SUMMARY:Total wild auf Wild
DESCRIPTION:Wildzeit – regional\, saisonal\, unverwechselbar \nAb Oktober bis zum Jahresende wird es bei uns wild: Freuen Sie sich auf zartes Wildbret aus heimischen Wäldern – frisch\, aromatisch und mit viel Sorgfalt zubereitet. Ob Hirsch\, Reh oder Wildschwein – begleitet von herbstlichen Beilagen wie Rosenkohl\, Preiselbeeren und handgemachten Klößen wird jedes Gericht zum echten Genussmoment. \nWildliebhaber kommen jetzt voll auf ihre Kosten\, egal ob à la carte oder bei einem unserer Wildbuffets! \n 
URL:https://www.landgasthaus-brueers.de/event/total-wild-auf-wild-2/
CATEGORIES:Wild
END:VEVENT
BEGIN:VEVENT
DTSTART;VALUE=DATE:20261004
DTEND;VALUE=DATE:20261005
DTSTAMP:20260424T174853
CREATED:20260416T132343Z
LAST-MODIFIED:20260416T135610Z
UID:9398-1791072000-1791158399@www.landgasthaus-brueers.de
SUMMARY:Frühstücksbuffet ab 10:00 Uhr
DESCRIPTION:
URL:https://www.landgasthaus-brueers.de/event/fruehstuecksbuffet-lecker/
CATEGORIES:Frühstücksbuffet
END:VEVENT
BEGIN:VEVENT
DTSTART;VALUE=DATE:20261101
DTEND;VALUE=DATE:20261201
DTSTAMP:20260424T174853
CREATED:20260119T174509Z
LAST-MODIFIED:20260119T175912Z
UID:8864-1793491200-1796083199@www.landgasthaus-brueers.de
SUMMARY:Gänsehaut garantiert
DESCRIPTION:Frisch aus der Region – unsere Gänse und Enten landen saftig und knusprig auf Ihrem Teller. Wer jetzt vorbeikommt\, darf sich auf echten Genuss mit Gänsehaut-Garantie freuen!
URL:https://www.landgasthaus-brueers.de/event/gaensehaut-garantiert/
CATEGORIES:Gans
END:VEVENT
BEGIN:VEVENT
DTSTART;TZID=Europe/Berlin:20261225T113000
DTEND;TZID=Europe/Berlin:20261225T150000
DTSTAMP:20260424T174853
CREATED:20250814T121443Z
LAST-MODIFIED:20260119T174734Z
UID:8370-1798198200-1798210800@www.landgasthaus-brueers.de
SUMMARY:Weihnachtsbuffet am Mittag
DESCRIPTION:Genießen Sie gemeinsam mit der ganzen Familie festliche Köstlichkeiten in gemütlicher Atmosphäre. \nWeitere Informationen erfolgen in den Sommermonaten; ab dann freuen wir uns auch über Reservierungen.
URL:https://www.landgasthaus-brueers.de/event/weihnachtsbuffet-in-oldenburg/
CATEGORIES:Weihnachten
END:VEVENT
BEGIN:VEVENT
DTSTART;TZID=Europe/Berlin:20261226T113000
DTEND;TZID=Europe/Berlin:20261226T150000
DTSTAMP:20260424T174853
CREATED:20250814T121450Z
LAST-MODIFIED:20260119T174740Z
UID:8371-1798284600-1798297200@www.landgasthaus-brueers.de
SUMMARY:Weihnachtsbuffet am Mittag
DESCRIPTION:Genießen Sie gemeinsam mit der ganzen Familie festliche Köstlichkeiten in gemütlicher Atmosphäre. \nWeitere Informationen erfolgen in den Sommermonaten; ab dann freuen wir uns auch über Reservierungen.
URL:https://www.landgasthaus-brueers.de/event/weihnachtsbuffet-am-mittag/
CATEGORIES:Weihnachten
END:VEVENT
BEGIN:VEVENT
DTSTART;VALUE=DATE:20261231
DTEND;VALUE=DATE:20270101
DTSTAMP:20260424T174853
CREATED:20250823T174610Z
LAST-MODIFIED:20260205T120514Z
UID:8422-1798675200-1798761599@www.landgasthaus-brueers.de
SUMMARY:Silvester
DESCRIPTION:Dieses Jahr haben wir leider geschlossen!
URL:https://www.landgasthaus-brueers.de/event/silvester/
CATEGORIES:Silvester
END:VEVENT
END:VCALENDAR